BEGIN:VCALENDAR
VERSION:2.0
PRODID:-//Date iCal//NONSGML kigkonsult.se iCalcreator 2.20.2//
METHOD:PUBLISH
X-WR-CALNAME;VALUE=TEXT:Programme Déantibulations
BEGIN:VTIMEZONE
TZID:Europe/Paris
BEGIN:STANDARD
DTSTART:20191027T030000
TZOFFSETFROM:+0200
TZOFFSETTO:+0100
TZNAME:CET
END:STANDARD
BEGIN:DAYLIGHT
DTSTART:20190331T020000
TZOFFSETFROM:+0100
TZOFFSETTO:+0200
TZNAME:CEST
END:DAYLIGHT
END:VTIMEZONE
BEGIN:VEVENT
UID:calendar.1569.field_date.0@acla06.com
DTSTAMP:20260420T163416Z
CREATED:20190416T104949Z
DTSTART;TZID=Europe/Paris:20190606T200000
DTEND;TZID=Europe/Paris:20190606T200000
LAST-MODIFIED:20190416T104949Z
LOCATION:Parvis du théatre Anthéa
SUMMARY:Lancement du festival
URL;TYPE=URI:http://acla06.com/deantibulations/representations/2019/06/06/2
 000
END:VEVENT
BEGIN:VEVENT
UID:calendar.1535.field_date.0@acla06.com
DTSTAMP:20260420T163416Z
CREATED:20190416T095808Z
DESCRIPTION:Concert pour deux body-percussionnistes-jongleurs et un musicie
 n multi-instrumentiste. Un trio légèrement fou et foncièrement sympathique
  qui jongle du rap indien au funk en passant par l'électro...\nLes musicie
 ns transforment leurs objets et leurs corps en instruments de musique\, le
 s balles et les rebonds en notes\, les vibrations en rythmes\, les traject
 oires en roulements de tambour et les chutes en silences...\nEntre chorégr
 aphie sonore et laboratoire rythmique\, BPM nous emporte\, le temps d’une 
 partition de musique jonglée\, dans une quête où la musique se regarde où 
 mouvement s’écoute.
DTSTART;TZID=Europe/Paris:20190606T203000
DTEND;TZID=Europe/Paris:20190606T203000
LAST-MODIFIED:20190416T095808Z
LOCATION:Parvis du théatre Anthéa
SUMMARY:BPM
URL;TYPE=URI:http://acla06.com/deantibulations/representations/2019/06/06/2
 030
END:VEVENT
BEGIN:VEVENT
UID:calendar.1552.field_date.0@acla06.com
DTSTAMP:20260420T163416Z
CREATED:20190416T101746Z
DESCRIPTION:Une scène en bois\, ronde. Trois artistes\, deux instruments de
  musique\, un agrès et un abîme. Pas de mots\, que du chant. Une illogique
  et délirante histoire à vous dévoiler. Une métaphore sur l’extraordinaire
  capacité de l'inconscience humaine à créer des discours et des scènes abs
 urdes pour justifier nos plus profondes contradictions vitales.\nLa contra
 diction et l'invraisemblance de nos codes sociaux seront les prétextes pri
 ncipaux qui rempliront de vie cette absurde histoire.
DTSTART;TZID=Europe/Paris:20190606T213000
DTEND;TZID=Europe/Paris:20190606T213000
LAST-MODIFIED:20190416T101746Z
LOCATION:Parvis du théatre Anthéa
SUMMARY:Flou papagayo
URL;TYPE=URI:http://acla06.com/deantibulations/representations/2019/06/06/2
 130
END:VEVENT
BEGIN:VEVENT
UID:calendar.1563.field_date.0@acla06.com
DTSTAMP:20260420T163416Z
CREATED:20190416T102920Z
DESCRIPTION:A travers les portés acrobatiques\, le main à main et les musiq
 ues venues du Portugal et du Brésil\, ce spectacle évoque la 'Saudade' : c
 e mot portugais\, quasiment intraduisible en français\, exprime un désir i
 ntense pour quelqu'un ou quelque chose que l'on aime et que l'on a perdu. 
 On peut ainsi parler de la Saudade pour ceux qui sont loin de leur pays\, 
 comme c'est le cas de ces deux artistes brésiliens qui vivent en France...
DTSTART;TZID=Europe/Paris:20190606T223000
DTEND;TZID=Europe/Paris:20190606T223000
LAST-MODIFIED:20190416T102920Z
LOCATION:Parvis du théatre Anthéa
SUMMARY:Oteto
URL;TYPE=URI:http://acla06.com/deantibulations/representations/2019/06/06/2
 230
END:VEVENT
BEGIN:VEVENT
UID:calendar.1515.field_date.0@acla06.com
DTSTAMP:20260420T163416Z
CREATED:20190416T093107Z
DESCRIPTION:Une carriole fabriquée de bric et de broc\, cinq personnes coha
 bitant dans un espace réduit.\n'Système D' est un spectacle de cirque tout
  public mêlant prouesse et joie de vivre. S’appuyant sur la technique des 
 portés acrobatiques\, ces personnages haut en couleurs\, revisitent des in
 stants du quotidien. Ils sont les rouages et les engrenages d'une machine 
 infernale créée par leurs soins\, dans le but de se 'simplifier' la vie. L
 a rue devient leur terrain de jeu\, la monotonie du quotidien laisse alors
  place à une absurde scène de vie collective.
DTSTART;TZID=Europe/Paris:20190607T141500
DTEND;TZID=Europe/Paris:20190607T141500
LAST-MODIFIED:20190416T093107Z
LOCATION:Esplanade du pré des pêcheurs
SUMMARY:Système D
URL;TYPE=URI:http://acla06.com/deantibulations/representations/2019/06/07/1
 415
END:VEVENT
BEGIN:VEVENT
UID:calendar.1541.field_date.0@acla06.com
DTSTAMP:20260420T163416Z
CREATED:20190416T100632Z
DESCRIPTION:Le Mobil’Bar\, le bar à histoires à usage du bonheur immédiat q
 ui vient vous voir avec son conteur serveur rêveur à voix haute. Cocktail 
 d’histoires euphorizygomatisantes au goût du monde\, service de poésies\, 
 verres pour la soif\, vers pour le coeur\, vert pour l’espoir. Le Mobil’Ba
 r est un vrai bar à roulettes. En tout temps\, tout lieu\, il sème bonheur
  et bonne humeur. Il sert verres pour la soif et vers pour les oreilles et
  les coeurs. Bons mots et mots bons\, poèmes et contes.\nDoux Blabla imagi
 naires\, garantis sans OGM ni Aspartam.
DTSTART;TZID=Europe/Paris:20190607T171500
DTEND;TZID=Europe/Paris:20190607T171500
LAST-MODIFIED:20190416T100632Z
LOCATION:Médiathèque Albert Camus
SUMMARY:Mobil Bar
URL;TYPE=URI:http://acla06.com/deantibulations/representations/2019/06/07/1
 715
END:VEVENT
BEGIN:VEVENT
UID:calendar.1542.field_date.0@acla06.com
DTSTAMP:20260420T163416Z
CREATED:20190416T100703Z
DESCRIPTION:Le Mobil’Bar\, le bar à histoires à usage du bonheur immédiat q
 ui vient vous voir avec son conteur serveur rêveur à voix haute. Cocktail 
 d’histoires euphorizygomatisantes au goût du monde\, service de poésies\, 
 verres pour la soif\, vers pour le coeur\, vert pour l’espoir. Le Mobil’Ba
 r est un vrai bar à roulettes. En tout temps\, tout lieu\, il sème bonheur
  et bonne humeur. Il sert verres pour la soif et vers pour les oreilles et
  les coeurs. Bons mots et mots bons\, poèmes et contes.\nDoux Blabla imagi
 naires\, garantis sans OGM ni Aspartam.
DTSTART;TZID=Europe/Paris:20190607T180000
DTEND;TZID=Europe/Paris:20190607T180000
LAST-MODIFIED:20190416T100703Z
LOCATION:Médiathèque Albert Camus
SUMMARY:Mobil Bar
URL;TYPE=URI:http://acla06.com/deantibulations/representations/2019/06/07/1
 800
END:VEVENT
BEGIN:VEVENT
UID:calendar.1553.field_date.0@acla06.com
DTSTAMP:20260420T163416Z
CREATED:20190416T101828Z
DESCRIPTION:Une scène en bois\, ronde. Trois artistes\, deux instruments de
  musique\, un agrès et un abîme. Pas de mots\, que du chant. Une illogique
  et délirante histoire à vous dévoiler. Une métaphore sur l’extraordinaire
  capacité de l'inconscience humaine à créer des discours et des scènes abs
 urdes pour justifier nos plus profondes contradictions vitales.\nLa contra
 diction et l'invraisemblance de nos codes sociaux seront les prétextes pri
 ncipaux qui rempliront de vie cette absurde histoire.
DTSTART;TZID=Europe/Paris:20190607T193000
DTEND;TZID=Europe/Paris:20190607T193000
LAST-MODIFIED:20190416T101828Z
LOCATION:Esplanade du pré des pêcheurs
SUMMARY:Flou papagayo
URL;TYPE=URI:http://acla06.com/deantibulations/representations/2019/06/07/1
 930
END:VEVENT
BEGIN:VEVENT
UID:calendar.1536.field_date.0@acla06.com
DTSTAMP:20260420T163416Z
CREATED:20190416T095847Z
DESCRIPTION:Concert pour deux body-percussionnistes-jongleurs et un musicie
 n multi-instrumentiste. Un trio légèrement fou et foncièrement sympathique
  qui jongle du rap indien au funk en passant par l'électro...\nLes musicie
 ns transforment leurs objets et leurs corps en instruments de musique\, le
 s balles et les rebonds en notes\, les vibrations en rythmes\, les traject
 oires en roulements de tambour et les chutes en silences...\nEntre chorégr
 aphie sonore et laboratoire rythmique\, BPM nous emporte\, le temps d’une 
 partition de musique jonglée\, dans une quête où la musique se regarde où 
 mouvement s’écoute.
DTSTART;TZID=Europe/Paris:20190607T202500
DTEND;TZID=Europe/Paris:20190607T202500
LAST-MODIFIED:20190416T095847Z
LOCATION:Esplanade du pré des pêcheurs
SUMMARY:BPM
URL;TYPE=URI:http://acla06.com/deantibulations/representations/2019/06/07/2
 025
END:VEVENT
BEGIN:VEVENT
UID:calendar.1547.field_date.0@acla06.com
DTSTAMP:20260420T163416Z
CREATED:20190416T101212Z
DESCRIPTION:Dès leur apparition\, les deux personnages sont absurdes\, nous
  faisant rire de leurs propres déboires. Elles sautent d'une pierre à l'au
 tre\, d'un état à un autre\, de Bellini à Hallyday\, de l'opéra à la pop l
 a plus acidulée\, d'un instrument à un autre\, sans retenue\, éternellemen
 t en quête de gloire et de reconnaissance.
DTSTART;TZID=Europe/Paris:20190607T220000
DTEND;TZID=Europe/Paris:20190607T220000
LAST-MODIFIED:20190416T101212Z
LOCATION:Place nationale
SUMMARY:Désaccords Parfaits
URL;TYPE=URI:http://acla06.com/deantibulations/representations/2019/06/07/2
 200
END:VEVENT
END:VCALENDAR
